BEGIN:VCALENDAR
VERSION:2.0
PRODID:-//Rwanda at Osaka Expo 2025 - ECPv6.10.2//NONSGML v1.0//EN
CALSCALE:GREGORIAN
METHOD:PUBLISH
X-ORIGINAL-URL:https://rwandaatexpo.rdb.rw
X-WR-CALDESC:Events for Rwanda at Osaka Expo 2025
REFRESH-INTERVAL;VALUE=DURATION:PT1H
X-Robots-Tag:noindex
X-PUBLISHED-TTL:PT1H
BEGIN:VTIMEZONE
TZID:Africa/Kigali
BEGIN:STANDARD
TZOFFSETFROM:+0200
TZOFFSETTO:+0200
TZNAME:CAT
DTSTART:20250101T000000
END:STANDARD
END:VTIMEZONE
BEGIN:VEVENT
DTSTART;TZID=Africa/Kigali:20251001T080000
DTEND;TZID=Africa/Kigali:20251013T170000
DTSTAMP:20260419T162314
CREATED:20250321T140605Z
LAST-MODIFIED:20250321T140923Z
UID:10000009-1759305600-1760374800@rwandaatexpo.rdb.rw
SUMMARY:Technology and space tech in particular to empower lives
DESCRIPTION:Rwanda will showcase how innovation\, digital transformation\, and space technology are driving sustainable development and improving lives. As one of Africa’s emerging tech hubs\, Rwanda is leveraging cutting-edge technologies to enhance connectivity\, education\, agriculture\, and public services.
URL:https://rwandaatexpo.rdb.rw/event/technology-and-space-tech-in-particular-to-empower-lives/
CATEGORIES:Rwanda Pavilion's initiative
ATTACH;FMTTYPE=image/jpeg:https://rwandaatexpo.rdb.rw/wp-content/uploads/2025/03/Rwanda-space-scaled.jpg
ORGANIZER;CN="Rwanda":MAILTO:rwandaatexpo@ogs.gov.rw
END:VEVENT
BEGIN:VEVENT
DTSTART;TZID=Africa/Kigali:20250901T080000
DTEND;TZID=Africa/Kigali:20250930T170000
DTSTAMP:20260419T162314
CREATED:20250321T140021Z
LAST-MODIFIED:20250321T140118Z
UID:10000008-1756713600-1759251600@rwandaatexpo.rdb.rw
SUMMARY:The future of earth and biodiversity\, Rwanda's case
DESCRIPTION:Rwanda will showcase its commitment to environmental conservation\, sustainable development\, and biodiversity protection. As one of Africa’s leading nations in green growth and conservation\, Rwanda’s efforts serve as a model for balancing economic progress with environmental sustainability.
URL:https://rwandaatexpo.rdb.rw/event/the-future-of-earth-and-biodiversity-rwandas-case/
CATEGORIES:Rwanda Pavilion's initiative
ATTACH;FMTTYPE=image/jpeg:https://rwandaatexpo.rdb.rw/wp-content/uploads/2025/03/Rwanda-environment.jpg
ORGANIZER;CN="Rwanda":MAILTO:rwandaatexpo@ogs.gov.rw
END:VEVENT
BEGIN:VEVENT
DTSTART;VALUE=DATE:20250807
DTEND;VALUE=DATE:20250808
DTSTAMP:20260419T162314
CREATED:20250321T134944Z
LAST-MODIFIED:20250409T134330Z
UID:10000007-1754524800-1754611199@rwandaatexpo.rdb.rw
SUMMARY:Peace\, human security\, and dignity
DESCRIPTION:Rwanda will share its inspiring journey of reconciliation\, resilience\, and inclusive development\, highlighting its transformation into a model of peacebuilding and social cohesion. The event will focus on homegrown solutions that have strengthened stability\, promoted human rights\, and ensured dignity for all citizens.
URL:https://rwandaatexpo.rdb.rw/event/peace-human-security-and-dignity/
CATEGORIES:Theme Week Event II
ATTACH;FMTTYPE=image/jpeg:https://rwandaatexpo.rdb.rw/wp-content/uploads/2025/03/Rwandan-Peacekeepers-in-South-Sudan-2025.jpg
ORGANIZER;CN="Rwanda":MAILTO:rwandaatexpo@ogs.gov.rw
END:VEVENT
BEGIN:VEVENT
DTSTART;VALUE=DATE:20250706
DTEND;VALUE=DATE:20250707
DTSTAMP:20260419T162314
CREATED:20250321T134358Z
LAST-MODIFIED:20250409T134136Z
UID:10000006-1751760000-1751846399@rwandaatexpo.rdb.rw
SUMMARY:Rwanda and Gender: Progress and Vision
DESCRIPTION:Rwanda will showcase its remarkable strides in gender equality and outline its vision for an inclusive and equitable future. The event will highlight how policy\, innovation\, and community-driven solutions have empowered women and promoted gender equity across all sectors.
URL:https://rwandaatexpo.rdb.rw/event/rwanda-and-gender-progress-and-vision/
CATEGORIES:Women Pavilion Participation (With Cartier)
ATTACH;FMTTYPE=image/jpeg:https://rwandaatexpo.rdb.rw/wp-content/uploads/2025/03/International-Women-Day-2024.jpg
ORGANIZER;CN="Rwanda":MAILTO:rwandaatexpo@ogs.gov.rw
END:VEVENT
BEGIN:VEVENT
DTSTART;VALUE=DATE:20250704
DTEND;VALUE=DATE:20250705
DTSTAMP:20260419T162314
CREATED:20250321T133757Z
LAST-MODIFIED:20250324T110611Z
UID:10000005-1751587200-1751673599@rwandaatexpo.rdb.rw
SUMMARY:Kwibohora 31
DESCRIPTION:Liberation Day (known locally as Kwibohora) is a public holiday in Rwanda that is celebrated on 4th July to remember those who liberated the country and those who sacrificed their lives for the cause.
URL:https://rwandaatexpo.rdb.rw/event/kwibohora-31/
CATEGORIES:National Day
ATTACH;FMTTYPE=image/jpeg:https://rwandaatexpo.rdb.rw/wp-content/uploads/2025/03/the_liberation_monument_at_the_parliament._the_africa_day_of_liberation_will_be_celebrated_on_may_26th._file.jpg
ORGANIZER;CN="Rwanda":MAILTO:rwandaatexpo@ogs.gov.rw
END:VEVENT
BEGIN:VEVENT
DTSTART;VALUE=DATE:20250626
DTEND;VALUE=DATE:20250627
DTSTAMP:20260419T162314
CREATED:20250321T133048Z
LAST-MODIFIED:20250409T134242Z
UID:10000004-1750896000-1750982399@rwandaatexpo.rdb.rw
SUMMARY:Health and Wellbeing
DESCRIPTION:Rwanda will showcase its innovative approaches to healthcare\, highlighting homegrown solutions that improve accessibility\, affordability\, and efficiency in the sector. The event will feature discussions on digital health innovations\, community-driven healthcare models\, and Rwanda’s progress in universal health coverage.
URL:https://rwandaatexpo.rdb.rw/event/health-and-wellbeing/
CATEGORIES:Theme Week Event II
ATTACH;FMTTYPE=image/jpeg:https://rwandaatexpo.rdb.rw/wp-content/uploads/2025/03/Administration-of-second-dose-of-COVID-19-2021.jpg
ORGANIZER;CN="Rwanda":MAILTO:rwandaatexpo@ogs.gov.rw
END:VEVENT
BEGIN:VEVENT
DTSTART;VALUE=DATE:20250508
DTEND;VALUE=DATE:20250509
DTSTAMP:20260419T162314
CREATED:20250321T131819Z
LAST-MODIFIED:20250321T181439Z
UID:10000003-1746662400-1746748799@rwandaatexpo.rdb.rw
SUMMARY:Kwibuka 31
DESCRIPTION:Kwibuka is the Kinyarwanda word for ‘remember‘ and describes the commemoration of the 1994 Genocide against the Tutsi in Rwanda.
URL:https://rwandaatexpo.rdb.rw/event/special-day/
CATEGORIES:Special Day
ATTACH;FMTTYPE=image/jpeg:https://rwandaatexpo.rdb.rw/wp-content/uploads/2025/03/Kwibuka.jpg
ORGANIZER;CN="Rwanda":MAILTO:rwandaatexpo@ogs.gov.rw
END:VEVENT
END:VCALENDAR